Package: PECA Version: 1.46.0 Command: /Library/Frameworks/R.framework/Resources/bin/R CMD INSTALL PECA StartedAt: 2025-10-31 15:13:56 -0400 (Fri, 31 Oct 2025) EndedAt: 2025-10-31 15:14:05 -0400 (Fri, 31 Oct 2025) EllapsedTime: 9.8 seconds RetCode: 0 Status: OK