Package: PECA Version: 1.46.0 Command: /Library/Frameworks/R.framework/Resources/bin/R CMD build --keep-empty-dirs --no-resave-data PECA StartedAt: 2025-10-31 17:23:22 -0400 (Fri, 31 Oct 2025) EndedAt: 2025-10-31 17:23:39 -0400 (Fri, 31 Oct 2025) EllapsedTime: 17.2 seconds RetCode: 0 Status: OK PackageFile: PECA_1.46.0.tar.gz PackageFileSize: 214.9 KiB