Package: PECA Version: 1.46.0 Command: rm -rf PECA.buildbin-libdir && mkdir PECA.buildbin-libdir && /Users/biocbuild/BBS/utils/build-universal.sh PECA_1.46.0.tar.gz /Library/Frameworks/R.framework/Resources/bin/R PECA.buildbin-libdir StartedAt: 2025-10-31 23:17:53 -0400 (Fri, 31 Oct 2025) EndedAt: 2025-10-31 23:18:02 -0400 (Fri, 31 Oct 2025) EllapsedTime: 9.2 seconds RetCode: 0 Status: OK PackageFile: PECA_1.46.0.tgz PackageFileSize: 224.7 KiB