Package: PDATK Version: 1.18.0 Command: /home/biocbuild/bbs-3.22-bioc/R/bin/R CMD INSTALL PDATK StartedAt: 2025-11-11 15:49:07 -0500 (Tue, 11 Nov 2025) EndedAt: 2025-11-11 15:49:50 -0500 (Tue, 11 Nov 2025) EllapsedTime: 42.6 seconds RetCode: 0 Status: OK