Package: PDATK Version: 1.18.0 Command: /home/biocbuild/bbs-3.22-bioc/R/bin/R CMD build --keep-empty-dirs --no-resave-data --md5 PDATK StartedAt: 2025-11-11 19:21:21 -0500 (Tue, 11 Nov 2025) EndedAt: 2025-11-11 19:23:09 -0500 (Tue, 11 Nov 2025) EllapsedTime: 108.1 seconds RetCode: 0 Status: OK PackageFile: PDATK_1.18.0.tar.gz PackageFileSize: 3.009 MiB