Package: PDATK Version: 1.18.0 Command: /Library/Frameworks/R.framework/Resources/bin/R CMD INSTALL PDATK StartedAt: 2025-11-03 15:43:34 -0500 (Mon, 03 Nov 2025) EndedAt: 2025-11-03 15:44:35 -0500 (Mon, 03 Nov 2025) EllapsedTime: 60.4 seconds RetCode: 0 Status: OK