Package: PDATK Version: 1.18.0 Command: /Library/Frameworks/R.framework/Resources/bin/R CMD build --keep-empty-dirs --no-resave-data PDATK StartedAt: 2025-11-03 18:12:16 -0500 (Mon, 03 Nov 2025) EndedAt: 2025-11-03 18:14:33 -0500 (Mon, 03 Nov 2025) EllapsedTime: 136.8 seconds RetCode: 0 Status: OK PackageFile: PDATK_1.18.0.tar.gz PackageFileSize: 3.004 MiB