Package: PDATK Version: 1.18.0 Command: rm -rf PDATK.buildbin-libdir && mkdir PDATK.buildbin-libdir && /Users/biocbuild/BBS/utils/build-universal.sh PDATK_1.18.0.tar.gz /Library/Frameworks/R.framework/Resources/bin/R PDATK.buildbin-libdir StartedAt: 2025-11-04 01:55:21 -0500 (Tue, 04 Nov 2025) EndedAt: 2025-11-04 01:56:27 -0500 (Tue, 04 Nov 2025) EllapsedTime: 65.8 seconds RetCode: 0 Status: OK PackageFile: PDATK_1.18.0.tgz PackageFileSize: 3.877 MiB