Package: PDATK Version: 1.16.1 Command: /home/biocbuild/R/R/bin/R CMD INSTALL PDATK StartedAt: 2025-10-13 21:05:33 -0000 (Mon, 13 Oct 2025) EndedAt: 2025-10-13 21:06:38 -0000 (Mon, 13 Oct 2025) EllapsedTime: 65.4 seconds RetCode: 0 Status: OK