Package: PDATK Version: 1.16.1 Command: /home/biocbuild/R/R/bin/R CMD build --keep-empty-dirs --no-resave-data PDATK StartedAt: 2025-10-14 03:26:57 -0000 (Tue, 14 Oct 2025) EndedAt: 2025-10-14 04:06:58 -0000 (Tue, 14 Oct 2025) EllapsedTime: 2400.1 seconds RetCode: None Status: TIMEOUT PackageFile: None PackageFileSize: NA