Package: PDATK Version: 1.16.0 Command: /Library/Frameworks/R.framework/Resources/bin/R CMD build --keep-empty-dirs --no-resave-data PDATK StartedAt: 2025-04-21 17:14:44 -0400 (Mon, 21 Apr 2025) EndedAt: 2025-04-21 17:15:30 -0400 (Mon, 21 Apr 2025) EllapsedTime: 46.5 seconds RetCode: 0 Status: OK PackageFile: PDATK_1.16.0.tar.gz PackageFileSize: 3.005 MiB