Package: PCAtools Version: 2.22.0 Command: /home/biocbuild/R/R/bin/R CMD INSTALL PCAtools StartedAt: 2025-11-10 22:05:44 -0000 (Mon, 10 Nov 2025) EndedAt: 2025-11-10 22:06:34 -0000 (Mon, 10 Nov 2025) EllapsedTime: 50.0 seconds RetCode: 0 Status: OK