Package: PCAtools Version: 2.22.0 Command: /home/biocbuild/R/R/bin/R CMD build --keep-empty-dirs --no-resave-data PCAtools StartedAt: 2025-11-11 04:01:55 -0000 (Tue, 11 Nov 2025) EndedAt: 2025-11-11 04:07:29 -0000 (Tue, 11 Nov 2025) EllapsedTime: 334.3 seconds RetCode: 0 Status: OK PackageFile: PCAtools_2.22.0.tar.gz PackageFileSize: 7.585 MiB