Package: PCAtools Version: 2.20.0 Command: /home/biocbuild/bbs-3.21-bioc/R/bin/R CMD INSTALL PCAtools StartedAt: 2025-09-28 16:05:41 -0400 (Sun, 28 Sep 2025) EndedAt: 2025-09-28 16:06:15 -0400 (Sun, 28 Sep 2025) EllapsedTime: 34.7 seconds RetCode: 0 Status: OK