Package: PCAtools Version: 2.20.0 Command: /home/biocbuild/R/R/bin/R CMD INSTALL PCAtools StartedAt: 2025-09-25 21:13:35 -0000 (Thu, 25 Sep 2025) EndedAt: 2025-09-25 21:14:27 -0000 (Thu, 25 Sep 2025) EllapsedTime: 51.4 seconds RetCode: 0 Status: OK