Package: PCAN Version: 1.36.0 Command: /home/biocbuild/bbs-3.21-bioc/R/bin/R CMD build --keep-empty-dirs --no-resave-data PCAN StartedAt: 2025-10-15 19:05:49 -0400 (Wed, 15 Oct 2025) EndedAt: 2025-10-15 19:06:43 -0400 (Wed, 15 Oct 2025) EllapsedTime: 54.0 seconds RetCode: 0 Status: OK PackageFile: PCAN_1.36.0.tar.gz PackageFileSize: 2.587 MiB