Package: PCAN Version: 1.38.0 Command: /Library/Frameworks/R.framework/Resources/bin/R CMD INSTALL PCAN StartedAt: 2025-10-31 15:16:36 -0400 (Fri, 31 Oct 2025) EndedAt: 2025-10-31 15:16:59 -0400 (Fri, 31 Oct 2025) EllapsedTime: 23.0 seconds RetCode: 0 Status: OK