Package: PCAN Version: 1.38.0 Command: /Library/Frameworks/R.framework/Resources/bin/R CMD build --keep-empty-dirs --no-resave-data PCAN StartedAt: 2025-10-31 18:14:49 -0400 (Fri, 31 Oct 2025) EndedAt: 2025-10-31 18:16:32 -0400 (Fri, 31 Oct 2025) EllapsedTime: 103.3 seconds RetCode: 0 Status: OK PackageFile: PCAN_1.38.0.tar.gz PackageFileSize: 2.564 MiB