Package: PCAN Version: 1.36.0 Command: /home/biocbuild/R/R/bin/R CMD INSTALL PCAN StartedAt: 2025-10-02 20:15:50 -0000 (Thu, 02 Oct 2025) EndedAt: 2025-10-02 20:16:17 -0000 (Thu, 02 Oct 2025) EllapsedTime: 27.5 seconds RetCode: 0 Status: OK