Package: PCAN Version: 1.36.0 Command: /home/biocbuild/R/R/bin/R CMD build --keep-empty-dirs --no-resave-data PCAN StartedAt: 2025-10-03 03:24:47 -0000 (Fri, 03 Oct 2025) EndedAt: 2025-10-03 03:26:21 -0000 (Fri, 03 Oct 2025) EllapsedTime: 94.1 seconds RetCode: 0 Status: OK PackageFile: PCAN_1.36.0.tar.gz PackageFileSize: 2.511 MiB