Package: PCAN Version: 1.36.0 Command: /Library/Frameworks/R.framework/Resources/bin/R CMD build --keep-empty-dirs --no-resave-data PCAN StartedAt: 2025-10-14 06:23:41 -0400 (Tue, 14 Oct 2025) EndedAt: 2025-10-14 06:25:02 -0400 (Tue, 14 Oct 2025) EllapsedTime: 81.1 seconds RetCode: 0 Status: OK PackageFile: PCAN_1.36.0.tar.gz PackageFileSize: 2.565 MiB