Package: PAST Version: 1.26.0 Command: /home/biocbuild/bbs-3.22-bioc/R/bin/R CMD build --keep-empty-dirs --no-resave-data --md5 PAST StartedAt: 2025-11-11 19:19:44 -0500 (Tue, 11 Nov 2025) EndedAt: 2025-11-11 19:22:06 -0500 (Tue, 11 Nov 2025) EllapsedTime: 142.1 seconds RetCode: 0 Status: OK PackageFile: PAST_1.26.0.tar.gz PackageFileSize: 954.8 KiB