Package: PANR Version: 1.56.0 Command: /Library/Frameworks/R.framework/Resources/bin/R CMD INSTALL PANR StartedAt: 2025-11-03 15:03:21 -0500 (Mon, 03 Nov 2025) EndedAt: 2025-11-03 15:03:35 -0500 (Mon, 03 Nov 2025) EllapsedTime: 14.1 seconds RetCode: 0 Status: OK