Package: PANR Version: 1.56.0 Command: /Library/Frameworks/R.framework/Resources/bin/R CMD build --keep-empty-dirs --no-resave-data PANR StartedAt: 2025-11-02 17:18:01 -0500 (Sun, 02 Nov 2025) EndedAt: 2025-11-02 17:18:11 -0500 (Sun, 02 Nov 2025) EllapsedTime: 10.1 seconds RetCode: 0 Status: OK PackageFile: PANR_1.56.0.tar.gz PackageFileSize: 2.113 MiB