Package: PANR Version: 1.56.0 Command: rm -rf PANR.buildbin-libdir && mkdir PANR.buildbin-libdir && /Users/biocbuild/BBS/utils/build-universal.sh PANR_1.56.0.tar.gz /Library/Frameworks/R.framework/Resources/bin/R PANR.buildbin-libdir StartedAt: 2025-11-02 23:15:34 -0500 (Sun, 02 Nov 2025) EndedAt: 2025-11-02 23:15:37 -0500 (Sun, 02 Nov 2025) EllapsedTime: 3.1 seconds RetCode: 0 Status: OK PackageFile: PANR_1.56.0.tgz PackageFileSize: 2.14 MiB