Package: PAIRADISE Version: 1.26.0 Command: /home/biocbuild/bbs-3.22-bioc/R/bin/R CMD INSTALL PAIRADISE StartedAt: 2025-11-13 15:24:10 -0500 (Thu, 13 Nov 2025) EndedAt: 2025-11-13 15:24:30 -0500 (Thu, 13 Nov 2025) EllapsedTime: 20.2 seconds RetCode: 0 Status: OK