Package: PAIRADISE Version: 1.26.0 Command: /home/biocbuild/bbs-3.22-bioc/R/bin/R CMD build --keep-empty-dirs --no-resave-data --md5 PAIRADISE StartedAt: 2025-11-13 19:16:35 -0500 (Thu, 13 Nov 2025) EndedAt: 2025-11-13 19:17:14 -0500 (Thu, 13 Nov 2025) EllapsedTime: 39.0 seconds RetCode: 0 Status: OK PackageFile: PAIRADISE_1.26.0.tar.gz PackageFileSize: 322.1 KiB