Package: PAIRADISE Version: 1.26.0 Command: /Library/Frameworks/R.framework/Resources/bin/R CMD INSTALL PAIRADISE StartedAt: 2025-11-10 15:14:40 -0500 (Mon, 10 Nov 2025) EndedAt: 2025-11-10 15:14:48 -0500 (Mon, 10 Nov 2025) EllapsedTime: 8.4 seconds RetCode: 0 Status: OK