Package: PAIRADISE Version: 1.26.0 Command: rm -rf PAIRADISE.buildbin-libdir && mkdir PAIRADISE.buildbin-libdir && /Users/biocbuild/BBS/utils/build-universal.sh PAIRADISE_1.26.0.tar.gz /Library/Frameworks/R.framework/Resources/bin/R PAIRADISE.buildbin-libdir StartedAt: 2025-11-10 23:30:34 -0500 (Mon, 10 Nov 2025) EndedAt: 2025-11-10 23:30:43 -0500 (Mon, 10 Nov 2025) EllapsedTime: 9.2 seconds RetCode: 0 Status: OK PackageFile: PAIRADISE_1.26.0.tgz PackageFileSize: 383.1 KiB