Package: PADOG Version: 1.52.0 Command: /home/biocbuild/bbs-3.22-bioc/R/bin/R CMD check --install=check:PADOG.install-out.txt --library=/home/biocbuild/bbs-3.22-bioc/R/site-library --timings PADOG_1.52.0.tar.gz StartedAt: 2025-11-15 02:44:34 -0500 (Sat, 15 Nov 2025) EndedAt: 2025-11-15 02:52:22 -0500 (Sat, 15 Nov 2025) EllapsedTime: 467.7 seconds RetCode: 0 Status: OK CheckDir: PADOG.Rcheck Warnings: 0