Package: PADOG Version: 1.52.0 Command: /home/biocbuild/bbs-3.22-bioc/R/bin/R CMD build --keep-empty-dirs --no-resave-data --md5 PADOG StartedAt: 2025-11-11 19:17:19 -0500 (Tue, 11 Nov 2025) EndedAt: 2025-11-11 19:19:46 -0500 (Tue, 11 Nov 2025) EllapsedTime: 147.2 seconds RetCode: 0 Status: OK PackageFile: PADOG_1.52.0.tar.gz PackageFileSize: 369.9 KiB