Package: PADOG Version: 1.50.0 Command: /home/biocbuild/bbs-3.21-bioc/R/bin/R CMD INSTALL PADOG StartedAt: 2025-10-15 15:28:25 -0400 (Wed, 15 Oct 2025) EndedAt: 2025-10-15 15:28:38 -0400 (Wed, 15 Oct 2025) EllapsedTime: 13.5 seconds RetCode: 0 Status: OK