Package: PADOG Version: 1.50.0 Command: /home/biocbuild/R/R/bin/R CMD INSTALL PADOG StartedAt: 2025-09-29 20:41:26 -0000 (Mon, 29 Sep 2025) EndedAt: 2025-09-29 20:41:46 -0000 (Mon, 29 Sep 2025) EllapsedTime: 19.7 seconds RetCode: 0 Status: OK