Package: PADOG Version: 1.50.0 Command: /home/biocbuild/R/R/bin/R CMD build --keep-empty-dirs --no-resave-data PADOG StartedAt: 2025-09-30 03:57:47 -0000 (Tue, 30 Sep 2025) EndedAt: 2025-09-30 04:00:32 -0000 (Tue, 30 Sep 2025) EllapsedTime: 165.3 seconds RetCode: 0 Status: OK PackageFile: PADOG_1.50.0.tar.gz PackageFileSize: 360 KiB