Package: PADOG Version: 1.50.0 Command: /Library/Frameworks/R.framework/Resources/bin/R CMD build --keep-empty-dirs --no-resave-data PADOG StartedAt: 2025-10-14 06:13:25 -0400 (Tue, 14 Oct 2025) EndedAt: 2025-10-14 06:16:31 -0400 (Tue, 14 Oct 2025) EllapsedTime: 185.5 seconds RetCode: 0 Status: OK PackageFile: PADOG_1.50.0.tar.gz PackageFileSize: 369.4 KiB