Package: PADOG Version: 1.50.0 Command: rm -rf PADOG.buildbin-libdir && mkdir PADOG.buildbin-libdir && /Users/biocbuild/BBS/utils/build-universal.sh PADOG_1.50.0.tar.gz /Library/Frameworks/R.framework/Resources/bin/R PADOG.buildbin-libdir StartedAt: 2025-10-15 19:43:27 -0400 (Wed, 15 Oct 2025) EndedAt: 2025-10-15 19:43:45 -0400 (Wed, 15 Oct 2025) EllapsedTime: 18.3 seconds RetCode: 0 Status: OK PackageFile: PADOG_1.50.0.tgz PackageFileSize: 400 KiB