Package: PADOG Version: 1.52.0 Maintainer: Adi L. Tarca MaintainerEmail: atarca at med.wayne.edu git_url: https://git.bioconductor.org/packages/PADOG git_branch: RELEASE_3_22 git_last_commit: 08a7421 git_last_commit_date: 2025-10-29 10:11:37 -0400 (Wed, 29 Oct 2025)