Package: PAA Version: 1.44.0 Command: /home/biocbuild/bbs-3.22-bioc/R/bin/R CMD build --keep-empty-dirs --no-resave-data --md5 PAA StartedAt: 2025-11-11 19:16:38 -0500 (Tue, 11 Nov 2025) EndedAt: 2025-11-11 19:18:47 -0500 (Tue, 11 Nov 2025) EllapsedTime: 129.1 seconds RetCode: 0 Status: OK PackageFile: PAA_1.44.0.tar.gz PackageFileSize: 4.142 MiB