Package: PAA Version: 1.44.0 Command: /Library/Frameworks/R.framework/Resources/bin/R CMD INSTALL PAA StartedAt: 2025-11-10 15:10:26 -0500 (Mon, 10 Nov 2025) EndedAt: 2025-11-10 15:10:39 -0500 (Mon, 10 Nov 2025) EllapsedTime: 12.8 seconds RetCode: 0 Status: OK