Package: PAA Version: 1.44.0 Command: /Library/Frameworks/R.framework/Resources/bin/R CMD build --keep-empty-dirs --no-resave-data PAA StartedAt: 2025-11-10 17:17:39 -0500 (Mon, 10 Nov 2025) EndedAt: 2025-11-10 17:18:30 -0500 (Mon, 10 Nov 2025) EllapsedTime: 51.6 seconds RetCode: 0 Status: OK PackageFile: PAA_1.44.0.tar.gz PackageFileSize: 3.743 MiB