Package: PAA Version: 1.44.0 Command: rm -rf PAA.buildbin-libdir && mkdir PAA.buildbin-libdir && /Users/biocbuild/BBS/utils/build-universal.sh PAA_1.44.0.tar.gz /Library/Frameworks/R.framework/Resources/bin/R PAA.buildbin-libdir StartedAt: 2025-11-10 23:30:31 -0500 (Mon, 10 Nov 2025) EndedAt: 2025-11-10 23:30:45 -0500 (Mon, 10 Nov 2025) EllapsedTime: 14.3 seconds RetCode: 0 Status: OK PackageFile: PAA_1.44.0.tgz PackageFileSize: 3.99 MiB