Package: OutSplice Version: 1.10.0 Command: /home/biocbuild/R/R/bin/R CMD INSTALL OutSplice StartedAt: 2025-11-13 22:09:04 -0000 (Thu, 13 Nov 2025) EndedAt: 2025-11-13 22:09:50 -0000 (Thu, 13 Nov 2025) EllapsedTime: 45.5 seconds RetCode: 0 Status: OK