Package: OutSplice Version: 1.10.0 Command: /home/biocbuild/R/R/bin/R CMD build --keep-empty-dirs --no-resave-data OutSplice StartedAt: 2025-11-14 03:58:13 -0000 (Fri, 14 Nov 2025) EndedAt: 2025-11-14 04:00:02 -0000 (Fri, 14 Nov 2025) EllapsedTime: 109.0 seconds RetCode: 0 Status: OK PackageFile: OutSplice_1.10.0.tar.gz PackageFileSize: 3.887 MiB