Package: OutSplice Version: 1.10.0 Command: /home/biocbuild/bbs-3.22-bioc/R/bin/R CMD INSTALL OutSplice StartedAt: 2025-11-11 16:04:20 -0500 (Tue, 11 Nov 2025) EndedAt: 2025-11-11 16:04:55 -0500 (Tue, 11 Nov 2025) EllapsedTime: 35.3 seconds RetCode: 0 Status: OK