Package: OutSplice Version: 1.8.0 Command: /home/biocbuild/bbs-3.21-bioc/R/bin/R CMD INSTALL OutSplice StartedAt: 2025-10-05 15:58:30 -0400 (Sun, 05 Oct 2025) EndedAt: 2025-10-05 15:59:05 -0400 (Sun, 05 Oct 2025) EllapsedTime: 34.3 seconds RetCode: 0 Status: OK