Package: OutSplice Version: 1.8.0 Command: /home/biocbuild/bbs-3.21-bioc/R/bin/R CMD build --keep-empty-dirs --no-resave-data OutSplice StartedAt: 2025-10-05 19:01:16 -0400 (Sun, 05 Oct 2025) EndedAt: 2025-10-05 19:03:34 -0400 (Sun, 05 Oct 2025) EllapsedTime: 138.2 seconds RetCode: 0 Status: OK PackageFile: OutSplice_1.8.0.tar.gz PackageFileSize: 3.863 MiB