Package: OutSplice Version: 1.8.0 Command: /Library/Frameworks/R.framework/Resources/bin/R CMD build --keep-empty-dirs --no-resave-data OutSplice StartedAt: 2025-10-13 21:19:09 -0400 (Mon, 13 Oct 2025) EndedAt: 2025-10-13 21:23:43 -0400 (Mon, 13 Oct 2025) EllapsedTime: 273.8 seconds RetCode: 0 Status: OK PackageFile: OutSplice_1.8.0.tar.gz PackageFileSize: 3.863 MiB