Package: OutSplice Version: 1.8.0 Command: rm -rf OutSplice.buildbin-libdir && mkdir OutSplice.buildbin-libdir && /Users/biocbuild/BBS/utils/build-universal.sh OutSplice_1.8.0.tar.gz /Library/Frameworks/R.framework/Resources/bin/R OutSplice.buildbin-libdir StartedAt: 2025-10-14 14:19:35 -0400 (Tue, 14 Oct 2025) EndedAt: 2025-10-14 14:21:23 -0400 (Tue, 14 Oct 2025) EllapsedTime: 108.6 seconds RetCode: 0 Status: OK PackageFile: OutSplice_1.8.0.tgz PackageFileSize: 3.904 MiB