Package: OutSplice Version: 1.8.0 Command: /Library/Frameworks/R.framework/Resources/bin/R CMD INSTALL OutSplice StartedAt: 2025-04-21 15:46:37 -0400 (Mon, 21 Apr 2025) EndedAt: 2025-04-21 15:47:25 -0400 (Mon, 21 Apr 2025) EllapsedTime: 48.0 seconds RetCode: 0 Status: OK