Package: OutSplice Version: 1.8.0 Command: /Library/Frameworks/R.framework/Resources/bin/R CMD INSTALL OutSplice StartedAt: 2025-10-02 18:32:17 -0400 (Thu, 02 Oct 2025) EndedAt: 2025-10-02 18:32:58 -0400 (Thu, 02 Oct 2025) EllapsedTime: 41.4 seconds RetCode: 0 Status: OK